BEGIN:VCALENDAR
VERSION:2.0
PRODID:exploreoc.com
X-WR-CALNAME:Crab Cake Specials at Captain's Galley
BEGIN:VEVENT
UID:4292025-11-102025-11-10
DTSTART;VALUE=DATE:20251110
SEQUENCE:0
TRANSP:OPAQUE
DTEND;VALUE=DATE:20251111
LOCATION:9936 Stephen Decatur Highway #Unit 401\nOcean City MD 21842
X-APPLE-STRUCTURED-LOCATION;VALUE=URI;X-ADDRESS=9936 Stephen Decatur Highwa
 y #Unit 401\nOcean City MD 21842;X-APPLE-RADIUS=49;X-TITLE=9936 Stephen De
 catur Highway #Unit 401:geo:38.335379,-75.111756
GEO:38.335379;-75.111756
SUMMARY:Crab Cake Specials at Captain's Galley
CLASS:PUBLIC
DESCRIPTION:TODAY'S CRABCAKE SPECIAL\n\n * 2 Crabcakes with Green Beans ~ $
 35\n\n
X-ALT-DESC;FMTTYPE=text/html:<p><strong>Today&#39\;s Crabcake Special</stro
 ng></p>\n\n<ul>\n<li>2 Crabcakes with Green Beans ~ $35</li>\n</ul>
X-MICROSOFT-CDO-ALLDAYEVENT:TRUE
DTSTAMP:20260421T181943Z
END:VEVENT
BEGIN:VEVENT
UID:4292025-11-112025-11-11
DTSTART;VALUE=DATE:20251111
SEQUENCE:0
TRANSP:OPAQUE
DTEND;VALUE=DATE:20251112
LOCATION:9936 Stephen Decatur Highway #Unit 401\nOcean City MD 21842
X-APPLE-STRUCTURED-LOCATION;VALUE=URI;X-ADDRESS=9936 Stephen Decatur Highwa
 y #Unit 401\nOcean City MD 21842;X-APPLE-RADIUS=49;X-TITLE=9936 Stephen De
 catur Highway #Unit 401:geo:38.335379,-75.111756
GEO:38.335379;-75.111756
SUMMARY:Crab Cake Specials at Captain's Galley
CLASS:PUBLIC
DESCRIPTION:TODAY'S CRABCAKE SPECIAL\n\n * 2 Crabcakes with Green Beans ~ $
 35\n\n
X-ALT-DESC;FMTTYPE=text/html:<p><strong>Today&#39\;s Crabcake Special</stro
 ng></p>\n\n<ul>\n<li>2 Crabcakes with Green Beans ~ $35</li>\n</ul>
X-MICROSOFT-CDO-ALLDAYEVENT:TRUE
DTSTAMP:20260421T181943Z
END:VEVENT
BEGIN:VEVENT
UID:4292025-11-172025-11-17
DTSTART;VALUE=DATE:20251117
SEQUENCE:0
TRANSP:OPAQUE
DTEND;VALUE=DATE:20251118
LOCATION:9936 Stephen Decatur Highway #Unit 401\nOcean City MD 21842
X-APPLE-STRUCTURED-LOCATION;VALUE=URI;X-ADDRESS=9936 Stephen Decatur Highwa
 y #Unit 401\nOcean City MD 21842;X-APPLE-RADIUS=49;X-TITLE=9936 Stephen De
 catur Highway #Unit 401:geo:38.335379,-75.111756
GEO:38.335379;-75.111756
SUMMARY:Crab Cake Specials at Captain's Galley
CLASS:PUBLIC
DESCRIPTION:TODAY'S CRABCAKE SPECIAL\n\n * 2 Crabcakes with Green Beans ~ $
 35\n\n
X-ALT-DESC;FMTTYPE=text/html:<p><strong>Today&#39\;s Crabcake Special</stro
 ng></p>\n\n<ul>\n<li>2 Crabcakes with Green Beans ~ $35</li>\n</ul>
X-MICROSOFT-CDO-ALLDAYEVENT:TRUE
DTSTAMP:20260421T181943Z
END:VEVENT
BEGIN:VEVENT
UID:4292025-11-182025-11-18
DTSTART;VALUE=DATE:20251118
SEQUENCE:0
TRANSP:OPAQUE
DTEND;VALUE=DATE:20251119
LOCATION:9936 Stephen Decatur Highway #Unit 401\nOcean City MD 21842
X-APPLE-STRUCTURED-LOCATION;VALUE=URI;X-ADDRESS=9936 Stephen Decatur Highwa
 y #Unit 401\nOcean City MD 21842;X-APPLE-RADIUS=49;X-TITLE=9936 Stephen De
 catur Highway #Unit 401:geo:38.335379,-75.111756
GEO:38.335379;-75.111756
SUMMARY:Crab Cake Specials at Captain's Galley
CLASS:PUBLIC
DESCRIPTION:TODAY'S CRABCAKE SPECIAL\n\n * 2 Crabcakes with Green Beans ~ $
 35\n\n
X-ALT-DESC;FMTTYPE=text/html:<p><strong>Today&#39\;s Crabcake Special</stro
 ng></p>\n\n<ul>\n<li>2 Crabcakes with Green Beans ~ $35</li>\n</ul>
X-MICROSOFT-CDO-ALLDAYEVENT:TRUE
DTSTAMP:20260421T181943Z
END:VEVENT
BEGIN:VEVENT
UID:4292025-11-242025-11-24
DTSTART;VALUE=DATE:20251124
SEQUENCE:0
TRANSP:OPAQUE
DTEND;VALUE=DATE:20251125
LOCATION:9936 Stephen Decatur Highway #Unit 401\nOcean City MD 21842
X-APPLE-STRUCTURED-LOCATION;VALUE=URI;X-ADDRESS=9936 Stephen Decatur Highwa
 y #Unit 401\nOcean City MD 21842;X-APPLE-RADIUS=49;X-TITLE=9936 Stephen De
 catur Highway #Unit 401:geo:38.335379,-75.111756
GEO:38.335379;-75.111756
SUMMARY:Crab Cake Specials at Captain's Galley
CLASS:PUBLIC
DESCRIPTION:TODAY'S CRABCAKE SPECIAL\n\n * 2 Crabcakes with Green Beans ~ $
 35\n\n
X-ALT-DESC;FMTTYPE=text/html:<p><strong>Today&#39\;s Crabcake Special</stro
 ng></p>\n\n<ul>\n<li>2 Crabcakes with Green Beans ~ $35</li>\n</ul>
X-MICROSOFT-CDO-ALLDAYEVENT:TRUE
DTSTAMP:20260421T181943Z
END:VEVENT
BEGIN:VEVENT
UID:4292025-11-252025-11-25
DTSTART;VALUE=DATE:20251125
SEQUENCE:0
TRANSP:OPAQUE
DTEND;VALUE=DATE:20251126
LOCATION:9936 Stephen Decatur Highway #Unit 401\nOcean City MD 21842
X-APPLE-STRUCTURED-LOCATION;VALUE=URI;X-ADDRESS=9936 Stephen Decatur Highwa
 y #Unit 401\nOcean City MD 21842;X-APPLE-RADIUS=49;X-TITLE=9936 Stephen De
 catur Highway #Unit 401:geo:38.335379,-75.111756
GEO:38.335379;-75.111756
SUMMARY:Crab Cake Specials at Captain's Galley
CLASS:PUBLIC
DESCRIPTION:TODAY'S CRABCAKE SPECIAL\n\n * 2 Crabcakes with Green Beans ~ $
 35\n\n
X-ALT-DESC;FMTTYPE=text/html:<p><strong>Today&#39\;s Crabcake Special</stro
 ng></p>\n\n<ul>\n<li>2 Crabcakes with Green Beans ~ $35</li>\n</ul>
X-MICROSOFT-CDO-ALLDAYEVENT:TRUE
DTSTAMP:20260421T181943Z
END:VEVENT
END:VCALENDAR