BEGIN:VCALENDAR
VERSION:2.0
PRODID:WorCo
X-WR-CALNAME:We Build You Play' Beachfest 2
BEGIN:VEVENT
UID:352172026-05-10
DTSTART;VALUE=DATE:20260510
SEQUENCE:0
TRANSP:OPAQUE
DTEND;VALUE=DATE:20260511
LOCATION:4001 Coastal Highway\nOcean City Maryland 21842
X-APPLE-STRUCTURED-LOCATION;VALUE=URI;X-ADDRESS=4001 Coastal Highway\nOcean
  City Maryland 21842;X-APPLE-RADIUS=49;X-TITLE=4001 Coastal Highway:geo:38
 .368159,-75.074256
GEO:38.368159;-75.074256
SUMMARY:We Build You Play' Beachfest 2
CLASS:PUBLIC
DESCRIPTION:Head down to the shore for our Beachfest 2 volleyball tournamen
 t!\n\nOriginating in Ocean City\, MD\, with 40 teams in 2011\, BEACHFEST h
 as\nexploded in popularity over the past eleven years and reached a max\nc
 apacity of 224 teams in 2018!! In 2021 a second weekend became\navailable 
 at the Ocean City convention center\, allowing us to spread\nthe event ove
 r two weekends\, which increased the number of teams to\n280. Having an AM
  and PM wave is one of the great accommodations we\nprovide to allow each 
 team to get their time in the All-American City!\n
X-ALT-DESC;FMTTYPE=text/html:<p>Head down to the shore for our Beachfest 2 
 volleyball tournament!<br />\n<br />\nOriginating in Ocean City\, MD\, wit
 h 40 teams in 2011\, BEACHFEST has exploded in popularity over the past el
 even years and reached a max capacity of 224 teams in 2018!! In 2021 a sec
 ond weekend became available at the Ocean City convention center\, allowin
 g us to spread the event over two weekends\, which increased the number of
  teams to 280. Having an AM and PM wave is one of the great accommodations
  we provide to allow each team to get their time in the All-American City!
 </p>
X-MICROSOFT-CDO-ALLDAYEVENT:TRUE
DTSTAMP:20260423T083408Z
END:VEVENT
END:VCALENDAR