BEGIN:VCALENDAR
VERSION:2.0
PRODID:WorCo
X-WR-CALNAME:Spartan Race
BEGIN:VEVENT
UID:79512021-10-16
DTSTART;VALUE=DATE:20211016
SEQUENCE:0
TRANSP:OPAQUE
DTEND;VALUE=DATE:20211017
SUMMARY:Spartan Race
CLASS:PUBLIC
DESCRIPTION:Race through town on the beach\, sidewalks and world-famous Boa
 rdwalk\nwhile enjoying the spectacular backdrop of the Atlantic Ocean. Tac
 kle\n20 of Spartan’s most famous obstacles. 7:30am-12:45pm or 1pm-5pm.\n
 Spartan City is a 3-5 km\, 20 obstacle race. Includes kids race. \n
X-ALT-DESC;FMTTYPE=text/html:<p>Race through town on the beach\, sidewalks 
 and world-famous Boardwalk while enjoying the spectacular backdrop of the 
 Atlantic Ocean. Tackle 20 of Spartan&rsquo\;s most famous obstacles. 7:30a
 m-12:45pm or 1pm-5pm. Spartan City is a 3-5 km\, 20 obstacle race. Include
 s kids race.&nbsp\;</p>
X-MICROSOFT-CDO-ALLDAYEVENT:TRUE
DTSTAMP:20260424T053245Z
END:VEVENT
END:VCALENDAR