BEGIN:VCALENDAR
VERSION:2.0
PRODID:WorCo
X-WR-CALNAME:Ocean City MD Christmas Parade
BEGIN:VEVENT
UID:339032025-12-06
DTSTART:20251206T160000Z
SEQUENCE:0
TRANSP:OPAQUE
DTEND:20251206T050000Z
SUMMARY:Ocean City MD Christmas Parade
CLASS:PUBLIC
DESCRIPTION:The Holiday season is almost here and Ocean City isn’t skippi
 ng a\nbeat for 2025. The Ocean City Christmas Parade goes in-house this ye
 ar\nto continue the 42 year tradition started by Gold Coast Mall. Mark\nyo
 ur calendars for December 6th\, bring your chairs\, blankets and plan\nfor
  a day in OC! Arrive early to park and get your viewing spot. THE\nPARADE
  BEGINS PROMPTLY AT 11:00 AM WITH AN EXTENDED ROUTE FROM OLD\nLANDING ROAD
  NORTH TO 120TH STREET. The southbound lanes of Coastal\nhighway are close
 d for the parade in that general area allowing\nspectators to gather curbs
 ide. Following the parade join us at the\nCarousel for family-friendly fun
  and the awards presentation! The\nbeach and boardwalk are always availabl
 e for a leisurely stroll\ndowntown to wrap up a great December day in town
 .\n\nIf you wish to participate in the parade\, please download the flyer\
 nand complete the registration form for consideration.\n\nHappy holidays t
 o our residents and guests! We hope to see everyone\nthere!\n
X-ALT-DESC;FMTTYPE=text/html:<p>The Holiday season is almost here and Ocean
  City isn&rsquo\;t skipping a beat for 2025. The Ocean City Christmas Para
 de goes in-house this year to continue the 42 year tradition started by Go
 ld Coast Mall. Mark your calendars for December 6th\, bring your chairs\, 
 blankets and plan for a day in OC! Arrive early to park and get your viewi
 ng spot.&nbsp\;<strong>The parade begins promptly at 11:00 am with an exte
 nded route from Old Landing Road north to 120th Street</strong>. The south
 bound lanes of Coastal highway are closed for the parade in that general a
 rea allowing spectators to gather curbside. Following the parade join us a
 t the Carousel for family-friendly fun and the awards presentation! The be
 ach and boardwalk are always available for a leisurely stroll downtown to 
 wrap up a great December day in town.</p>\n\n<p>If you wish to participate
  in the parade\, please download the flyer and complete the registration f
 orm for consideration.</p>\n\n<p>Happy holidays to our residents and guest
 s! We hope to see everyone there!</p>
DTSTAMP:20260423T160220Z
END:VEVENT
END:VCALENDAR