BEGIN:VCALENDAR
VERSION:2.0
PRODID:WorCo
X-WR-CALNAME:OC Bridefest
BEGIN:VEVENT
UID:191092024-05-03
DTSTART:20240503T230000Z
SEQUENCE:0
TRANSP:OPAQUE
DTEND:20240504T020000Z
LOCATION:4001 Coastal Highway\nOcean City Maryland 21842
X-APPLE-STRUCTURED-LOCATION;VALUE=URI;X-ADDRESS=4001 Coastal Highway\nOcean
  City Maryland 21842;X-APPLE-RADIUS=49;X-TITLE=4001 Coastal Highway:geo:38
 .368173,-75.074262
GEO:38.368173;-75.074262
SUMMARY:OC Bridefest
CLASS:PUBLIC
DESCRIPTION:OC Bridefest is a Fun & Exciting Game Show filmed in Ocean City
 \nMaryland with a Wedding & Fashion Expo at the stunning waterfront\nConve
 ntion Center. Bring your team to the beach to Play for a Free\nOcean City 
 Vacation and the exclusive OC Bridefest Championship Belt.\n\nWe’re part
 nering with the City\, County & State to bring the\nWorld’s largest bach
 elorette Party to OCMD. We’re filming this\nunique 3 day event in a real
 ity game show format with creative behind\nthe scenes footage. Then we’r
 e submitting it to the Travel Channel\nto bring them and other national me
 dia outlets here in 2025.\n
X-ALT-DESC;FMTTYPE=text/html:<p>OC Bridefest is a Fun &amp\; Exciting Game 
 Show filmed in Ocean City Maryland with a Wedding &amp\; Fashion Expo at t
 he stunning waterfront Convention Center. Bring your team to the beach to 
 Play for a Free Ocean City Vacation and the exclusive OC Bridefest Champio
 nship Belt.</p>\n\n<p>We&rsquo\;re partnering with the City\, County &amp\
 ; State to bring the World&rsquo\;s largest bachelorette Party to OCMD. We
 &rsquo\;re filming this unique 3 day event in a reality game show format w
 ith creative behind the scenes footage. Then we&rsquo\;re submitting it to
  the Travel Channel to bring them and other national media outlets here in
  2025.</p>
DTSTAMP:20260423T164923Z
END:VEVENT
END:VCALENDAR