BEGIN:VCALENDAR
VERSION:2.0
PRODID:WorCo
X-WR-CALNAME:New Year's Eve Celebration and Fireworks
BEGIN:VEVENT
UID:170132019-12-31
DTSTART:20191231T223000Z
SEQUENCE:0
TRANSP:OPAQUE
DTEND:20191231T051500Z
LOCATION:200 125th St\nOcean City MD 21842
X-APPLE-STRUCTURED-LOCATION;VALUE=URI;X-ADDRESS=200 125th St\nOcean City MD
  21842;X-APPLE-RADIUS=49;X-TITLE=200 125th St:geo:38.433417,-75.058081
GEO:38.433417;-75.058081
SUMMARY:New Year's Eve Celebration and Fireworks
CLASS:PUBLIC
DESCRIPTION:Make your plans for New Year's Eve today\, the Town of Ocean Ci
 ty will\nbe hosting a New Year's Eve Fireworks Show at Northside Park to\n
 celebrate the beginning of 2022 and the 29th Annual Winterfest of\nLights.
  \n\nThe fireworks display\, which will begin promptly at midnight\, will 
 be\naccompanied by live entertainment\, warm hot chocolate\, and the\noppo
 rtunity to experience the Winterfest of Lights.\n\nWith more than one mill
 ion holiday lights sparkling throughout\nNorthside Park\, the Winterfest o
 f Lights New Year's Eve Fireworks Show\nwill be a great way to ring in the
  New Year.\n\n
X-ALT-DESC;FMTTYPE=text/html:<p style=\"margin:0px 0px 13.33px\;\"><span>Ma
 ke your plans for New Year's Eve today\, the Town of Ocean City will be ho
 sting a New Year's Eve Fireworks Show at Northside Park to celebrate the b
 eginning of 2022 and the 29th Annual Winterfest of Lights. <br /><br />The
  fireworks display\, which will begin promptly at midnight\, will be accom
 panied by live entertainment\, warm hot chocolate\, and the opportunity to
  experience the Winterfest of Lights.</span></p>\n<p style=\"padding:0px\;
 color:#555555\;font-family:'Open Sans'\, sans-serif\;\">With more than one
  million holiday lights sparkling throughout Northside Park\, the Winterfe
 st of Lights New Year's Eve Fireworks Show will be a great way to ring in 
 the New Year.</p><font face=\"Calibri\"></font><font size=\"3\"></font><fo
 nt face=\"Times New Roman\"></font><br />
DTSTAMP:20260424T023951Z
END:VEVENT
END:VCALENDAR