BEGIN:VCALENDAR
VERSION:2.0
PRODID:WorCo
X-WR-CALNAME:Maryland International Kite Expo
BEGIN:VEVENT
UID:70262022-05-01
DTSTART;VALUE=DATE:20220501
SEQUENCE:0
TRANSP:OPAQUE
DTEND;VALUE=DATE:20220502
LOCATION:6701 Coastal Hwy\nOcean City MD 21842
X-APPLE-STRUCTURED-LOCATION;VALUE=URI;X-ADDRESS=6701 Coastal Hwy\nOcean Cit
 y MD 21842;X-APPLE-RADIUS=49;X-TITLE=6701 Coastal Hwy:geo:38.335998,-75.10
 2074
GEO:38.335998;-75.102074
SUMMARY:Maryland International Kite Expo
CLASS:PUBLIC
DESCRIPTION:Ocean City\, Maryland and The Kite Loft welcome you to come and
  fly on\nthe beautiful beaches along our famous boardwalk. The Maryland\nI
 nternational Kite Exposition will feature three days of kite flying\non th
 e beaches of Ocean City\, Maryland.  \n  \nThroughout the festival there
  will be exhibitions and demonstrations\nincluding stunt and power kite le
 ssons\, Giant kite displays and much\nmore! The festival will showcase som
 e of the best kite flyers from\naround the world. Kites of all shapes and 
 sizes will be on display. \n\nOn behalf of The Town of Ocean City and The 
 Kite Loft we welcome\neveryone to join in the festivities. Bring your fami
 ly for several\ndays of good old fashion kite flying. Remember when we say
 \, “Go Fly\nA Kite”\, we mean it.  \n  \nMore details to come.
X-ALT-DESC;FMTTYPE=text/html:<div>Ocean City\, Maryland and The Kite Loft w
 elcome you to come and fly on the beautiful beaches along our famous board
 walk. The Maryland International Kite Exposition will feature three days o
 f kite flying on the beaches of Ocean City\, Maryland. </div>\n<div> </d
 iv>\n<div>Throughout the festival there will be exhibitions and demonstrat
 ions including stunt and power kite lessons\, Giant kite displays and much
  more! The festival will showcase some of the best kite flyers from around
  the world. Kites of all shapes and sizes will be on display. <br /><br />
 On behalf of The Town of Ocean City and The Kite Loft we welcome everyone 
 to join in the festivities. Bring your family for several days of good old
  fashion kite flying. Remember when we say\, “Go Fly A Kite”\, we mean
  it. </div>\n<div> </div>\n<div>More details to come.</div>
X-MICROSOFT-CDO-ALLDAYEVENT:TRUE
DTSTAMP:20260421T152556Z
END:VEVENT
END:VCALENDAR