BEGIN:VCALENDAR
VERSION:2.0
PRODID:WorCo
X-WR-CALNAME:Jim Long Band
BEGIN:VEVENT
UID:69502021-06-11
DTSTART:20210611T210000Z
SEQUENCE:0
TRANSP:OPAQUE
DTEND:20210612T010000Z
LOCATION:117 49th St\nOcean City MD 21842
X-APPLE-STRUCTURED-LOCATION;VALUE=URI;X-ADDRESS=117 49th St\nOcean City MD 
 21842;X-APPLE-RADIUS=49;X-TITLE=117 49th St:geo:38.374561,-75.071571
GEO:38.374561;-75.071571
SUMMARY:Jim Long Band
CLASS:PUBLIC
DESCRIPTION:Check out The Jim Long Band live at Seacrets in Ocean City. Jim
  Long\nis a singer/songwriter and multi-instrumentalist who truly entertai
 ns\nduring his shows. Bring a few friends and grab a drink at the Beach\nS
 tage and enjoy the night's performance.
X-ALT-DESC;FMTTYPE=text/html:Check out The Jim Long Band live at Seacrets i
 n Ocean City. Jim Long is a singer/songwriter and multi-instrumentalist wh
 o truly entertains during his shows. Bring a few friends and grab a drink 
 at the Beach Stage and enjoy the night's performance.
DTSTAMP:20260420T165526Z
END:VEVENT
END:VCALENDAR