BEGIN:VCALENDAR
VERSION:2.0
PRODID:WorCo
X-WR-CALNAME:Holiday Shoppers Fair
BEGIN:VEVENT
UID:254862024-11-29
DTSTART;VALUE=DATE:20241129
SEQUENCE:0
TRANSP:OPAQUE
DTEND;VALUE=DATE:20241130
SUMMARY:Holiday Shoppers Fair
CLASS:PUBLIC
DESCRIPTION:Unique merchandise such as gourmet items\, nautical\, candles\,
 \nphotography\, florals\, jewelry\, and ceramics. Great gifts\, accessorie
 s\,\n& household items. Children's activities & face painting.\n\nOver 120
  Vendors! Hosted at the Roland E. Powell Convention Center.\nFree parking\
 , food court\, non-shoppers lounge\, etc. For more\ninformation\, contact 
 Melanie at 410-723-8605\n[tel:%224107238605%22] or email mcollins@ocean
 citymd.gov.\n\nFriday & Saturday: 10am – 5pm\nSunday :10am – 3pm\n
X-ALT-DESC;FMTTYPE=text/html:<p>Unique merchandise such as gourmet items\, 
 nautical\, candles\, photography\, florals\, jewelry\, and ceramics. Great
  gifts\, accessories\, &amp\; household items. Children&#39\;s activities 
 &amp\; face painting.</p>\n\n<p>Over 120 Vendors! Hosted at the Roland E. 
 Powell Convention Center. Free parking\, food court\, non-shoppers lounge\
 , etc. For more information\, contact Melanie at&nbsp\;<a href=\"tel:%2241
 07238605%22\">410-723-8605</a>&nbsp\;or email&nbsp\;<a href=\"mailto:mcoll
 ins@oceancitymd.gov\">mcollins@oceancitymd.gov</a>.</p>\n\n<p>Friday &amp\
 ; Saturday: 10am &ndash\; 5pm<br />\nSunday :10am &ndash\; 3pm</p>
X-MICROSOFT-CDO-ALLDAYEVENT:TRUE
DTSTAMP:20260425T204134Z
END:VEVENT
END:VCALENDAR