BEGIN:VCALENDAR
VERSION:2.0
PRODID:WorCo
X-WR-CALNAME:Harbor Day at the Docks
BEGIN:VEVENT
UID:152112023-10-14
DTSTART:20231014T140000Z
SEQUENCE:0
TRANSP:OPAQUE
DTEND:20231014T190000Z
LOCATION:12911 Sunset Ave\nOcean City MD 21842
X-APPLE-STRUCTURED-LOCATION;VALUE=URI;X-ADDRESS=12911 Sunset Ave\nOcean Cit
 y MD 21842;X-APPLE-RADIUS=49;X-TITLE=12911 Sunset Ave:geo:38.328297,-75.10
 4687
GEO:38.328297;-75.104687
SUMMARY:Harbor Day at the Docks
CLASS:PUBLIC
DESCRIPTION:Sunset Ave. in the West Ocean City Commercial Harbor from 10am 
 to3pm -\nwaterfront festival celebrates OC's rich history\, & maritimeheri
 tage.\nMusic & food. FREE\n
X-ALT-DESC;FMTTYPE=text/html:<p>Sunset Ave. in the West Ocean City Commerci
 al Harbor from 10am to3pm - waterfront festival celebrates OC&#39\;s rich 
 history\, &amp\; maritimeheritage. Music &amp\; food. FREE</p>
DTSTAMP:20260420T195535Z
END:VEVENT
END:VCALENDAR