BEGIN:VCALENDAR
VERSION:2.0
PRODID:WorCo
X-WR-CALNAME:Halloween Spook-Out Party
BEGIN:VEVENT
UID:169662019-10-27
DTSTART:20191027T170000Z
SEQUENCE:0
TRANSP:OPAQUE
DTEND:20191027T190000Z
LOCATION:200-125th St & Bay\nOcean City MD 21842
X-APPLE-STRUCTURED-LOCATION;VALUE=URI;X-ADDRESS=200-125th St & Bay\nOcean C
 ity MD 21842;X-APPLE-RADIUS=49;X-TITLE=200-125th St & Bay:geo:38.431091,-7
 5.058347
GEO:38.431091;-75.058347
SUMMARY:Halloween Spook-Out Party
CLASS:PUBLIC
DESCRIPTION:Kids of all ages can join us OUTSIDE at Northside Park for load
 s of\ngames\, crafts\, hashtag photo contest and other fun\nactivities! L
 ocated on the Northside Park Ballfield #1. Entry price\nis one bag of ind
 ividually wrapped candy.\n\nThe Costume contest will be the highlight of t
 he day!\n\nGames\n\nMultiple carnival style games throughout the event sui
 table for all\nages.\n\nPlinko\, Feed the witch\, Stop and Throw\, Soccer 
 Kick\, Ring the Ghosts\,\nHeart Attack\, Spin a prize\, Lollipop tree\, an
 d many more\n\nCandy prizes for game winners!\n\nCrafts\n\nCraft bag given
  to each participant to take with them.\n
X-ALT-DESC;FMTTYPE=text/html:<p>Kids of all ages can join us OUTSIDE at Nor
 thside Park for loads of games\, crafts\, hashtag photo contest and other 
 fun activities! Located on the Northside Park Ballfield #1. <span>Entry 
 price is one bag of individually wrapped candy.</span></p>\n<p>The Costume
  contest will be the highlight of the day!</p>\n<p><u>Games</u></p>\n<p>Mu
 ltiple carnival style games throughout the event suitable for all ages.</p
 >\n<p>Plinko\, Feed the witch\, Stop and Throw\, Soccer Kick\, Ring the Gh
 osts\, Heart Attack\, Spin a prize\, Lollipop tree\, and many more</p>\n<p
 >Candy prizes for game winners!</p>\n<p><u>Crafts</u></p>\n<p>Craft bag gi
 ven to each participant to take with them.</p>
DTSTAMP:20260421T152257Z
END:VEVENT
END:VCALENDAR