BEGIN:VCALENDAR
VERSION:2.0
PRODID:WorCo
X-WR-CALNAME:Halloween Bowl Bash
BEGIN:VEVENT
UID:79562021-10-30
DTSTART:20211030T180000Z
SEQUENCE:0
TRANSP:OPAQUE
DTEND:20211030T220000Z
SUMMARY:Halloween Bowl Bash
CLASS:PUBLIC
DESCRIPTION:Skaters love to jam out at Ocean Bowl! This spooky annual Hallo
 ween\nevent includes a best trick skateboarding competition with prizes an
 d\nmusic. There will also be a prize for best costume so bring your\nspook
 y skater style!\n
X-ALT-DESC;FMTTYPE=text/html:<p>Skaters love to jam out at Ocean Bowl! This
  spooky annual Halloween event includes a best trick skateboarding competi
 tion with prizes and music. There will also be a prize for best costume so
  bring your spooky skater style!</p>
DTSTAMP:20260424T192022Z
END:VEVENT
END:VCALENDAR