BEGIN:VCALENDAR
VERSION:2.0
PRODID:WorCo
X-WR-CALNAME:Creative Connections - Free Monthly Art Club
BEGIN:VEVENT
UID:352162026-05-08
DTSTART:20260508T150000Z
SEQUENCE:0
TRANSP:OPAQUE
DTEND:20260508T170000Z
LOCATION:502 94th Street\nOcean City Maryland 21842
X-APPLE-STRUCTURED-LOCATION;VALUE=URI;X-ADDRESS=502 94th Street\nOcean City
  Maryland 21842;X-APPLE-RADIUS=49;X-TITLE=502 94th Street:geo:38.410046,-7
 5.062181
GEO:38.410046;-75.062181
SUMMARY:Creative Connections - Free Monthly Art Club
CLASS:PUBLIC
DESCRIPTION:Creative Connections  - Free Monthly Art Club designed for\nin
 dividuals aged 60+ who believe that creativity has no retirement\ndate.\n\
 nDate: Fri. May 8\, 2026\n\nTime: 11:00 - 1:00\n\nLocation: Art League of 
 Ocean City\n\nCost: Free - please register\n\nWhat to Expect:\n\nPeer-Led 
 Inspiration: Each session kicks off with a curated\npresentation by fellow
  art lovers and instructors in the 60+\ncommunity\, covering everything fr
 om local history in art to modern\ntechniques.\n\nMeaningful Connections: 
 The second hour is dedicated to open\nconversation. It's a space to share 
 ideas\, meet like-minded neighbors\,\nand forge new friendships over light
  refreshments.\n\nA Welcoming Atmosphere: Whether you are a lifelong artis
 t or someone\nwho has never been to a gallery\, this club is about the joy
  of\ndiscovery.\n\nIn this session:\n\nFilmmakers Joan Floyd and Doug Arms
 trong will talk about making a\nshort film using an iPhone. Their film\, \
 "That Seagull Story\" was\nscreened for the 2026 Ocean City Film Festival.
  Discover how to turn\nlimitations into assets as you hear about story\, s
 cript\, locations\,\ncast\, crew rehearsal\, filming\, sound and editing.\
 n\nLink: https://canvas.artleagueofoceancity.org/events/16\n
X-ALT-DESC;FMTTYPE=text/html:<p>Creative Connections&nbsp\; - Free Monthly 
 Art Club designed for individuals aged 60+ who believe that creativity has
  no retirement date.</p>\n\n<p>Date: Fri. May 8\, 2026</p>\n\n<p>Time: 11:
 00 - 1:00</p>\n\n<p>Location: Art League of Ocean City</p>\n\n<p>Cost: Fre
 e - please register</p>\n\n<p>What to Expect:</p>\n\n<p>Peer-Led Inspirati
 on: Each session kicks off with a curated presentation by fellow art lover
 s and instructors in the 60+ community\, covering everything from local hi
 story in art to modern techniques.</p>\n\n<p>Meaningful Connections: The s
 econd hour is dedicated to open conversation. It&#39\;s a space to share i
 deas\, meet like-minded neighbors\, and forge new friendships over light r
 efreshments.</p>\n\n<p>A Welcoming Atmosphere: Whether you are a lifelong 
 artist or someone who has never been to a gallery\, this club is about the
  joy of discovery.</p>\n\n<p>In this session:</p>\n\n<p>Filmmakers Joan Fl
 oyd and Doug Armstrong will talk about making a short film using an iPhone
 . Their film\, &quot\;That Seagull Story&quot\; was screened for the 2026 
 Ocean City Film Festival. Discover how to turn limitations into assets as 
 you hear about story\, script\, locations\, cast\, crew rehearsal\, filmin
 g\, sound and editing.</p>\n\n<p>Link: <a href=\"https://canvas.artleagueo
 foceancity.org/events/16\" target=\"_blank\">https://canvas.artleagueofoce
 ancity.org/events/16</a></p>
DTSTAMP:20260423T083432Z
END:VEVENT
END:VCALENDAR